BEGIN:VCALENDAR
VERSION:2.0
PRODID:-//MTPC - ECPv5.6.0//NONSGML v1.0//EN
CALSCALE:GREGORIAN
METHOD:PUBLISH
X-WR-CALNAME:MTPC
X-ORIGINAL-URL:https://www.masstpc.org
X-WR-CALDESC:Events for MTPC
BEGIN:VTIMEZONE
TZID:UTC
BEGIN:STANDARD
TZOFFSETFROM:+0000
TZOFFSETTO:+0000
TZNAME:UTC
DTSTART:20210101T000000
END:STANDARD
END:VTIMEZONE
BEGIN:VEVENT
DTSTART;TZID=UTC:20210427T190000
DTEND;TZID=UTC:20210427T200000
DTSTAMP:20210509T134928
CREATED:20210317T161011Z
LAST-MODIFIED:20210317T161011Z
UID:94388-1619550000-1619553600@www.masstpc.org
SUMMARY:Affirmations: Trans Book Club with Translate Gender
DESCRIPTION:Affirmations: Trans Book Club is a book club like no other! Geared towards trans and nonbinary youth (ages 8-18)\, Affirmations invites readers to explore\, question\, and connect with one another and the centered experiences of trans\, nonbinary\, and gender-creative book characters. \nPartnering with High Five Books\, youth (14+) can discuss a book centering on the experiences of a trans\, nonbinary\, or gender nonconforming character. Each third Tuesday of the month. for younger students\, please see the Affirmations bookclub on the first Tuesday of the month. \nFacilitated by a trans/nonbinary librarian.\nParticipants receive a High Five Books Discount. \nRegister for free
URL:https://www.masstpc.org/event/affirmations-trans-book-club-with-translate-gender/2021-04-27/
ATTACH;FMTTYPE=image/png:https://www.masstpc.org/wp-content/uploads/Screen-Shot-2021-03-17-at-12.02.37-PM.png
ORGANIZER;CN="Translate%20Gender":MAILTO:info@translategender.org
END:VEVENT
END:VCALENDAR